BEGIN:VCALENDAR
VERSION:2.0
PRODID:-//Office du Tourisme de Couvin - ECPv6.15.20//NONSGML v1.0//EN
CALSCALE:GREGORIAN
METHOD:PUBLISH
X-WR-CALNAME:Office du Tourisme de Couvin
X-ORIGINAL-URL:https://tourisme-couvin.be
X-WR-CALDESC:Events for Office du Tourisme de Couvin
REFRESH-INTERVAL;VALUE=DURATION:PT1H
X-Robots-Tag:noindex
X-PUBLISHED-TTL:PT1H
BEGIN:VTIMEZONE
TZID:Europe/Brussels
BEGIN:DAYLIGHT
TZOFFSETFROM:+0100
TZOFFSETTO:+0200
TZNAME:CEST
DTSTART:20250330T010000
END:DAYLIGHT
BEGIN:STANDARD
TZOFFSETFROM:+0200
TZOFFSETTO:+0100
TZNAME:CET
DTSTART:20251026T010000
END:STANDARD
BEGIN:DAYLIGHT
TZOFFSETFROM:+0100
TZOFFSETTO:+0200
TZNAME:CEST
DTSTART:20260329T010000
END:DAYLIGHT
BEGIN:STANDARD
TZOFFSETFROM:+0200
TZOFFSETTO:+0100
TZNAME:CET
DTSTART:20261025T010000
END:STANDARD
BEGIN:DAYLIGHT
TZOFFSETFROM:+0100
TZOFFSETTO:+0200
TZNAME:CEST
DTSTART:20270328T010000
END:DAYLIGHT
BEGIN:STANDARD
TZOFFSETFROM:+0200
TZOFFSETTO:+0100
TZNAME:CET
DTSTART:20271031T010000
END:STANDARD
END:VTIMEZONE
BEGIN:VEVENT
DTSTART;TZID=Europe/Brussels:20260423T090000
DTEND;TZID=Europe/Brussels:20260423T150000
DTSTAMP:20260423T014842
CREATED:20260324T131914Z
LAST-MODIFIED:20260324T131914Z
UID:972064-1776934800-1776956400@tourisme-couvin.be
SUMMARY:Salon de l’emploi
DESCRIPTION:Après une première édition qui a rassemblé près de 500 visi-teurs\, le Job Day – Emplois et formations revient le 23 avril2026 au Couvidome Bernard PignonVous cherchez un emploi ? Une formation?Vous souhaitez découvrir de nouveaux métiers ou rencontrerdes recruteurs ?Ce salon vous permettra de rencontrer entreprises\, centresde formation et partenaires de l’emploi réunis pour échangeravec vous et vous présenter leurs opportunités.Près de 50 stands sont déjà annoncés pour cette deuxièmeédition\, toujours en collaboration avec la CSC Arrondissementde Philippeville.
URL:https://tourisme-couvin.be/event/salon-de-lemploi/
LOCATION:Couvidôme\, Rue de la Foulerie\, Couvin\, 5660\, Belgium
CATEGORIES:Savoir
ATTACH;FMTTYPE=image/jpeg:https://tourisme-couvin.be/wp-content/uploads/2026/03/salon-de-lemploi-1_resultat.jpg
END:VEVENT
END:VCALENDAR